{
 "currentVersion": 10.31,
 "serviceDescription": "La classificazione è basata sulla caratterizzazione della rete delle strade urbanizzate mediante una successione di progressive segmentazioni binarie dell\u2019insieme delle unità elementari. Per maggiorni informazioni consultare la pagina http://dsa3.unipg.it/ricerca-2/progetti-di-ricerca/progetto-trustee/progetto-trustee-i-risultati-ottenuti-iii/",
 "mapName": "Classificazione delle forme urbane",
 "description": "La classificazione è basata sulla caratterizzazione della rete delle strade urbanizzate mediante una successione di progressive segmentazioni binarie dell\u2019insieme delle unità elementari. Per maggiorni informazioni consultare la pagina http://dsa3.unipg.it/ricerca-2/progetti-di-ricerca/progetto-trustee/progetto-trustee-i-risultati-ottenuti-iii/",
 "copyrightText": "Sandra Camicia, Lunella Ferri, Cristina Brunelli",
 "supportsDynamicLayers": false,
 "layers": [
  {
   "id": 0,
   "name": "Classificazione delle forme urbane",
   "parentLayerId": -1,
   "defaultVisibility": true,
   "subLayerIds": null,
   "minScale": 25000,
   "maxScale": 0
  },
  {
   "id": 1,
   "name": "Fabbricati (Fonte dati:SISTEMA ECOGRAFICO CATASTALE - REGIONE UMBRIA",
   "parentLayerId": -1,
   "defaultVisibility": true,
   "subLayerIds": null,
   "minScale": 0,
   "maxScale": 0
  },
  {
   "id": 2,
   "name": "ortofoto_2011",
   "parentLayerId": -1,
   "defaultVisibility": true,
   "subLayerIds": null,
   "minScale": 0,
   "maxScale": 0
  }
 ],
 "tables": [],
 "spatialReference": {
  "wkid": 32633,
  "latestWkid": 32633
 },
 "singleFusedMapCache": true,
 "tileInfo": {
  "rows": 512,
  "cols": 512,
  "dpi": 96,
  "format": "MIXED",
  "compressionQuality": 75,
  "origin": {
   "x": -5120900,
   "y": 9998100
  },
  "spatialReference": {
   "wkid": 32633,
   "latestWkid": 32633
  },
  "lods": [
   {
    "level": 0,
    "resolution": 529.1677250021168,
    "scale": 2000000
   },
   {
    "level": 1,
    "resolution": 264.5838625010584,
    "scale": 1000000
   },
   {
    "level": 2,
    "resolution": 132.2919312505292,
    "scale": 500000
   },
   {
    "level": 3,
    "resolution": 52.91677250021167,
    "scale": 200000
   },
   {
    "level": 4,
    "resolution": 26.458386250105836,
    "scale": 100000
   },
   {
    "level": 5,
    "resolution": 13.229193125052918,
    "scale": 50000
   },
   {
    "level": 6,
    "resolution": 6.614596562526459,
    "scale": 25000
   },
   {
    "level": 7,
    "resolution": 2.6458386250105836,
    "scale": 10000
   },
   {
    "level": 8,
    "resolution": 1.3229193125052918,
    "scale": 5000
   },
   {
    "level": 9,
    "resolution": 0.5291677250021167,
    "scale": 2000
   }
  ]
 },
 "initialExtent": {
  "xmin": 283352.3627929688,
  "ymin": 4776121.426207225,
  "xmax": 283519.05062634445,
  "ymax": 4776304.650532006,
  "spatialReference": {
   "wkid": 32633,
   "latestWkid": 32633
  }
 },
 "fullExtent": {
  "xmin": 258863.72523288717,
  "ymin": 4750867.643730043,
  "xmax": 307611.1035793775,
  "ymax": 4810097.488850223,
  "spatialReference": {
   "wkid": 32633,
   "latestWkid": 32633
  }
 },
 "minScale": 2000000,
 "maxScale": 2000,
 "units": "esriMeters",
 "supportedImageFormatTypes": "PNG32,PNG24,PNG,JPG,DIB,TIFF,EMF,PS,PDF,GIF,SVG,SVGZ,BMP",
 "documentInfo": {
  "Title": "",
  "Author": "",
  "Comments": "",
  "Subject": "",
  "Category": "",
  "AntialiasingMode": "None",
  "TextAntialiasingMode": "Force",
  "Keywords": "progetto-trustee,Classificazione delle forme urbane"
 },
 "capabilities": "Map,Query,Data",
 "supportedQueryFormats": "JSON, AMF",
 "exportTilesAllowed": false,
 "maxRecordCount": 1000,
 "maxImageHeight": 4096,
 "maxImageWidth": 4096,
 "supportedExtensions": ""
}
