{
 "currentVersion": 10.31,
 "serviceDescription": "Ortofoto digitale a colori AGEA 2020, risoluzione pixel a terra 20 cm, messa a disposizione da AGEA, proprietaria dei dati (intero territorio Regione UMBRIA).",
 "mapName": "ORTOFOTO 2020 5k-20 cm",
 "description": "Ortofoto digitale a colori AGEA 2020, risoluzione pixel a terra 20 cm, messa a disposizione da AGEA, proprietaria dei dati (intero territorio Regione UMBRIA).",
 "copyrightText": "Ortofoto 1:5000/20 cm © 2020 AGEA - TUTTI I DIRITTI RISERVATI",
 "supportsDynamicLayers": false,
 "layers": [
  {
   "id": 0,
   "name": "ORTOFOTO 2020 scala nominale 1:5000/20 cm",
   "parentLayerId": -1,
   "defaultVisibility": true,
   "subLayerIds": null,
   "minScale": 0,
   "maxScale": 0
  }
 ],
 "tables": [],
 "spatialReference": {
  "wkid": 6708,
  "latestWkid": 6708
 },
 "singleFusedMapCache": true,
 "tileInfo": {
  "rows": 256,
  "cols": 256,
  "dpi": 96,
  "format": "MIXED",
  "compressionQuality": 75,
  "origin": {
   "x": -5120900,
   "y": 9998100
  },
  "spatialReference": {
   "wkid": 6708,
   "latestWkid": 6708
  },
  "lods": [
   {
    "level": 0,
    "resolution": 529.1677250021168,
    "scale": 2000000
   },
   {
    "level": 1,
    "resolution": 264.5838625010584,
    "scale": 1000000
   },
   {
    "level": 2,
    "resolution": 132.2919312505292,
    "scale": 500000
   },
   {
    "level": 3,
    "resolution": 52.91677250021167,
    "scale": 200000
   },
   {
    "level": 4,
    "resolution": 26.458386250105836,
    "scale": 100000
   },
   {
    "level": 5,
    "resolution": 13.229193125052918,
    "scale": 50000
   },
   {
    "level": 6,
    "resolution": 6.614596562526459,
    "scale": 25000
   },
   {
    "level": 7,
    "resolution": 2.6458386250105836,
    "scale": 10000
   },
   {
    "level": 8,
    "resolution": 1.3229193125052918,
    "scale": 5000
   },
   {
    "level": 9,
    "resolution": 0.5291677250021167,
    "scale": 2000
   },
   {
    "level": 10,
    "resolution": 0.26458386250105836,
    "scale": 1000
   }
  ]
 },
 "initialExtent": {
  "xmin": 233477.36926829332,
  "ymin": 4718401.647680487,
  "xmax": 339572.57156097546,
  "ymax": 4833880.721656096,
  "spatialReference": {
   "wkid": 6708,
   "latestWkid": 6708
  }
 },
 "fullExtent": {
  "xmin": 244360,
  "ymin": 4691259.799900001,
  "xmax": 360480.2000000002,
  "ymax": 4834019.9999,
  "spatialReference": {
   "wkid": 6708,
   "latestWkid": 6708
  }
 },
 "minScale": 2000000,
 "maxScale": 1000,
 "units": "esriMeters",
 "supportedImageFormatTypes": "PNG32,PNG24,PNG,JPG,DIB,TIFF,EMF,PS,PDF,GIF,SVG,SVGZ,BMP",
 "documentInfo": {
  "Title": "ORTOFOTO 2020 scala nominale 1:5.000",
  "Author": "Regione Umbria - SIAT",
  "Comments": "Ortofoto digitale a colori AGEA 2020, risoluzione pixel a terra 20 cm, messa a disposizione da AGEA, proprietaria dei dati (intero territorio Regione UMBRIA)",
  "Subject": "ORTOFOTO 2020 scala nominale 1:5.000",
  "Category": "",
  "AntialiasingMode": "None",
  "TextAntialiasingMode": "Force",
  "Keywords": "ORTOFOTO DIGITALE 2020 1:5.000"
 },
 "capabilities": "Map,Query,Data",
 "supportedQueryFormats": "JSON, AMF",
 "exportTilesAllowed": false,
 "maxRecordCount": 1000,
 "maxImageHeight": 4096,
 "maxImageWidth": 4096,
 "supportedExtensions": "WMSServer"
}
