{
 "currentVersion": 10.31,
 "serviceDescription": "Ortofoto digitale AGEA 2011 (risoluzione sul terreno pari a 0,5 m) messa a disposizione da AGEA e realizzata dalla ©Compagnia Generale Ripreseaeree S.p.A. \u2013 Parma http://www.terraitaly.it (intero territorio Regione UMBRIA).",
 "mapName": "ORTOFOTO 2011 10k",
 "description": "Ortofoto digitale AGEA 2011 (risoluzione sul terreno pari a 0,5 m) messa a disposizione da AGEA e realizzata dalla ©Compagnia Generale Ripreseaeree S.p.A. \u2013 Parma http://www.terraitaly.it (intero territorio Regione UMBRIA).",
 "copyrightText": "Ortofoto digitale AGEA 2011 ©Compagnia Generale Ripreseaeree S.p.A. \u2013 Parma",
 "supportsDynamicLayers": false,
 "layers": [
  {
   "id": 0,
   "name": "ORTOFOTO 2011 scala nominale 1:10.000",
   "parentLayerId": -1,
   "defaultVisibility": true,
   "subLayerIds": null,
   "minScale": 0,
   "maxScale": 0
  }
 ],
 "tables": [],
 "spatialReference": {
  "wkid": 25833,
  "latestWkid": 25833
 },
 "singleFusedMapCache": true,
 "tileInfo": {
  "rows": 256,
  "cols": 256,
  "dpi": 96,
  "format": "MIXED",
  "compressionQuality": 75,
  "origin": {
   "x": -5120900,
   "y": 9998100
  },
  "spatialReference": {
   "wkid": 25833,
   "latestWkid": 25833
  },
  "lods": [
   {
    "level": 0,
    "resolution": 529.1677250021168,
    "scale": 2000000
   },
   {
    "level": 1,
    "resolution": 264.5838625010584,
    "scale": 1000000
   },
   {
    "level": 2,
    "resolution": 132.2919312505292,
    "scale": 500000
   },
   {
    "level": 3,
    "resolution": 52.91677250021167,
    "scale": 200000
   },
   {
    "level": 4,
    "resolution": 26.458386250105836,
    "scale": 100000
   },
   {
    "level": 5,
    "resolution": 13.229193125052918,
    "scale": 50000
   },
   {
    "level": 6,
    "resolution": 6.614596562526459,
    "scale": 25000
   },
   {
    "level": 7,
    "resolution": 2.6458386250105836,
    "scale": 10000
   },
   {
    "level": 8,
    "resolution": 1.3229193125052918,
    "scale": 5000
   },
   {
    "level": 9,
    "resolution": 0.5291677250021167,
    "scale": 2000
   },
   {
    "level": 10,
    "resolution": 0.26458386250105836,
    "scale": 1000
   }
  ]
 },
 "initialExtent": {
  "xmin": 208629.29636067813,
  "ymin": 4744039.250656996,
  "xmax": 396020.24543932173,
  "ymax": 4844106.9615,
  "spatialReference": {
   "wkid": 25833,
   "latestWkid": 25833
  }
 },
 "fullExtent": {
  "xmin": 240908.81730000017,
  "ymin": 4691141.1072,
  "xmax": 363740.7244999997,
  "ymax": 4836822.873199999,
  "spatialReference": {
   "wkid": 25833,
   "latestWkid": 25833
  }
 },
 "minScale": 2000000,
 "maxScale": 1000,
 "units": "esriMeters",
 "supportedImageFormatTypes": "PNG32,PNG24,PNG,JPG,DIB,TIFF,EMF,PS,PDF,GIF,SVG,SVGZ,BMP",
 "documentInfo": {
  "Title": "ORTOFOTO 2011 ETRS89/UTM zone 33N scala nominale 1:10.000",
  "Author": "Regione Umbria - SIAT",
  "Comments": "Ortofoto digitale AGEA 2011 (risoluzione sul terreno pari a 0,5 m) messa a disposizione da AGEA e realizzata dalla ©Compagnia Generale Ripreseaeree S.p.A. \u2013 Parma http://www.terraitaly.it (intero territorio Regione UMBRIA).",
  "Subject": "ORTOFOTO 2011 1:10.000",
  "Category": "",
  "AntialiasingMode": "None",
  "TextAntialiasingMode": "Force",
  "Keywords": "ORTOFOTO DIGITALE 2011 1:10.000"
 },
 "capabilities": "Map,Query,Data",
 "supportedQueryFormats": "JSON, AMF",
 "exportTilesAllowed": false,
 "maxRecordCount": 1000,
 "maxImageHeight": 4096,
 "maxImageWidth": 4096,
 "supportedExtensions": ""
}
