{
 "currentVersion": 10.31,
 "serviceDescription": "Mosaico delle n. 276 tavole \u201cOrtofotocarta a stampa tipografica a scala 1:10.000\u201d, derivata dalla ripresa aerea generale in bianco e nero eseguita nel 1977 a scala 1:33.000 su tutto il territorio della Regione Umbria, scansionate e georiferite in coordinate WGS 84 UTM 33 N sull'intero territorio regionale.\nSono presenti nella congiunzione delle ortofotocarte differenze di tonalità, minimi errori di continuità comunque presenti nella cartografia originale.\n",
 "mapName": "ORTOFOTOCARTA 1977 10k",
 "description": "Mosaico delle n. 276 tavole \u201cOrtofotocarta a stampa tipografica a scala 1:10.000\u201d, derivata dalla ripresa aerea generale in bianco e nero eseguita nel 1977 a scala 1:33.000 su tutto il territorio della Regione Umbria, scansionate e georiferite in coordinate WGS 84 UTM 33 N sull'intero territorio regionale.\nSono presenti nella congiunzione delle ortofotocarte differenze di tonalità, minimi errori di continuità comunque presenti nella cartografia originale.\n",
 "copyrightText": "Regione Umbria - SIAT",
 "supportsDynamicLayers": false,
 "layers": [
  {
   "id": 0,
   "name": "Inquadramento ED50",
   "parentLayerId": -1,
   "defaultVisibility": true,
   "subLayerIds": null,
   "minScale": 0,
   "maxScale": 0
  },
  {
   "id": 1,
   "name": "ORTOFOTOCARTA 1977 WGS84 UTM",
   "parentLayerId": -1,
   "defaultVisibility": true,
   "subLayerIds": null,
   "minScale": 0,
   "maxScale": 0
  }
 ],
 "tables": [],
 "spatialReference": {
  "wkid": 32633,
  "latestWkid": 32633
 },
 "singleFusedMapCache": true,
 "tileInfo": {
  "rows": 256,
  "cols": 256,
  "dpi": 96,
  "format": "MIXED",
  "compressionQuality": 75,
  "origin": {
   "x": -5120900,
   "y": 9998100
  },
  "spatialReference": {
   "wkid": 32633,
   "latestWkid": 32633
  },
  "lods": [
   {
    "level": 0,
    "resolution": 529.1677250021168,
    "scale": 2000000
   },
   {
    "level": 1,
    "resolution": 264.5838625010584,
    "scale": 1000000
   },
   {
    "level": 2,
    "resolution": 132.2919312505292,
    "scale": 500000
   },
   {
    "level": 3,
    "resolution": 52.91677250021167,
    "scale": 200000
   },
   {
    "level": 4,
    "resolution": 26.458386250105836,
    "scale": 100000
   },
   {
    "level": 5,
    "resolution": 13.229193125052918,
    "scale": 50000
   },
   {
    "level": 6,
    "resolution": 6.614596562526459,
    "scale": 25000
   },
   {
    "level": 7,
    "resolution": 2.6458386250105836,
    "scale": 10000
   },
   {
    "level": 8,
    "resolution": 1.3229193125052918,
    "scale": 5000
   },
   {
    "level": 9,
    "resolution": 0.5291677250021167,
    "scale": 2000
   },
   {
    "level": 10,
    "resolution": 0.26458386250105836,
    "scale": 1000
   }
  ]
 },
 "initialExtent": {
  "xmin": 146975.79780565214,
  "ymin": 4750710.366134246,
  "xmax": 457634.0383833721,
  "ymax": 4845165.45564668,
  "spatialReference": {
   "wkid": 32633,
   "latestWkid": 32633
  }
 },
 "fullExtent": {
  "xmin": 239092.06263632776,
  "ymin": 4689872.823288355,
  "xmax": 365517.77355269657,
  "ymax": 4837770.568391521,
  "spatialReference": {
   "wkid": 32633,
   "latestWkid": 32633
  }
 },
 "minScale": 2000000,
 "maxScale": 1000,
 "units": "esriMeters",
 "supportedImageFormatTypes": "PNG32,PNG24,PNG,JPG,DIB,TIFF,EMF,PS,PDF,GIF,SVG,SVGZ,BMP",
 "documentInfo": {
  "Title": "ORTOFOTOCARTA 1977 WGS84 UTM",
  "Author": "Regione Umbria - SIAT",
  "Comments": "Mosaico delle n. 276 tavole \u201cOrtofotocarta a stampa tipografica a scala 1:10.000\u201d, derivata dalla ripresa aerea generale in bianco e nero eseguita nel 1977 a scala 1:33.000 su tutto il territorio della Regione Umbria, scansionate e georiferite in coordinate WGS 84 UTM 33 N sull'intero territorio regionale.\nSono presenti nella congiunzione delle ortofotocarte differenze di tonalità, minimi errori di continuità comunque presenti nella cartografia originale.\n",
  "Subject": "ORTOFOTOCARTA 1977 WGS84 UTM 33 N Scala 1:10.000",
  "Category": "",
  "AntialiasingMode": "None",
  "TextAntialiasingMode": "Force",
  "Keywords": "MOSAICO ORTOFOTOCARTA 1977"
 },
 "capabilities": "Map,Query,Data",
 "supportedQueryFormats": "JSON, AMF",
 "exportTilesAllowed": false,
 "maxRecordCount": 1000,
 "maxImageHeight": 4096,
 "maxImageWidth": 4096,
 "supportedExtensions": "WMSServer"
}
